BEGIN:VCALENDAR
VERSION:2.0
PRODID:SchoolNow
CALSCALE:GREGORIAN
BEGIN:VEVENT
UID:2fbecdf4-dd8f-11ef-8a92-0e956362e35d
DTSTAMP:20250128T154732Z
SUMMARY:Boys Varsity Bowling New Hartford\, Central Valley Academy\, Hollan
 d Patent\, Camden\, Vernon-Verona-Sherrill\, Whitesboro @ Rome Free Academ
 y
LOCATION:King Pin Lanes
URL;VALUE=URI:https://www.uticaschools.org/departments/athletics/calendar/7
 386695/boys-varsity-bowling-new-hartford-central-valley-academy-holland-pa
 tent-camden-vernon-verona-sherrill-whitesboro-rome-free-academy
DTSTART:20250204T203000Z
DTEND:20250204T213000Z
END:VEVENT
END:VCALENDAR
