BEGIN:VCALENDAR
VERSION:2.0
PRODID:SchoolNow
CALSCALE:GREGORIAN
BEGIN:VEVENT
UID:33380482-dd8f-11ef-a111-0e956362e35d
DTSTAMP:20250128T154738Z
SUMMARY:(G) V Basketball - Practice (11:30 AM)
LOCATION:PHS Main Gym
URL;VALUE=URI:https://www.uticaschools.org/departments/athletics/calendar/7
 387499/g-v-basketball-practice-11-30-am
DTSTART:20241130T163000Z
DTEND:20241130T183000Z
END:VEVENT
END:VCALENDAR
