BEGIN:VCALENDAR
VERSION:2.0
PRODID:SchoolNow
CALSCALE:GREGORIAN
BEGIN:VEVENT
UID:34a27e88-dd8f-11ef-bc7d-0e956362e35d
DTSTAMP:20250128T154740Z
SUMMARY:(B) V Winter Track - Practice (8:00 AM)
LOCATION:PHS Aux Gym ROTC  (small gym)\, PHS Indoor Track (Practice Facilit
 y)\, Proctor H S
URL;VALUE=URI:https://www.uticaschools.org/departments/athletics/calendar/7
 387813/b-v-winter-track-practice-8-00-am
DTSTART:20241129T130000Z
DTEND:20241129T150000Z
END:VEVENT
END:VCALENDAR
