BEGIN:VCALENDAR
VERSION:2.0
PRODID:SchoolNow
CALSCALE:GREGORIAN
BEGIN:VEVENT
UID:36c0774c-dd8f-11ef-b0e0-0e956362e35d
DTSTAMP:20250128T154744Z
SUMMARY:Boys Varsity Swimming/Diving v. TBD
URL;VALUE=URI:https://www.uticaschools.org/departments/athletics/calendar/7
 388231/boys-varsity-swimming-diving-v-tbd
DTSTART:20250208T151500Z
DTEND:20250208T161500Z
END:VEVENT
END:VCALENDAR
