BEGIN:VCALENDAR
VERSION:2.0
PRODID:SchoolNow
CALSCALE:GREGORIAN
BEGIN:VEVENT
UID:2479dc04-1f1a-11f1-a3b3-0a58a9feac02
DTSTAMP:20260330T195547Z
SUMMARY:GRADUATION DAY
URL;VALUE=URI:https://www.uticaschools.org/departments/guidance-counseling-
 services/calendar/8915529/graduation-day
DTSTART;VALUE=DATE:20260626
DTEND;VALUE=DATE:20260627
END:VEVENT
END:VCALENDAR
